Package: timecourse Version: 1.83.0 Maintainer: Yu Chuan Tai MaintainerEmail: yuchuan at stat.berkeley.edu git_url: https://git.bioconductor.org/packages/timecourse git_branch: devel git_last_commit: 7b6e6b3 git_last_commit_date: 2025-10-29 09:56:54 -0500 (Wed, 29 Oct 2025)