Package: timeOmics Version: 1.23.0 Command: /home/biocbuild/bbs-3.23-bioc/R/bin/R CMD build --keep-empty-dirs --no-resave-data timeOmics StartedAt: 2025-11-13 20:31:40 -0500 (Thu, 13 Nov 2025) EndedAt: 2025-11-13 20:32:17 -0500 (Thu, 13 Nov 2025) EllapsedTime: 37.0 seconds RetCode: 0 Status: OK PackageFile: timeOmics_1.23.0.tar.gz PackageFileSize: 3.976 MiB