Package: timeOmics Version: 1.23.0 Command: /Library/Frameworks/R.framework/Resources/bin/R CMD INSTALL timeOmics StartedAt: 2025-11-13 15:05:23 -0500 (Thu, 13 Nov 2025) EndedAt: 2025-11-13 15:05:29 -0500 (Thu, 13 Nov 2025) EllapsedTime: 6.0 seconds RetCode: 0 Status: OK