Package: timeOmics Version: 1.23.0 Command: /Library/Frameworks/R.framework/Resources/bin/R CMD build --keep-empty-dirs --no-resave-data timeOmics StartedAt: 2025-11-13 17:59:22 -0500 (Thu, 13 Nov 2025) EndedAt: 2025-11-13 17:59:39 -0500 (Thu, 13 Nov 2025) EllapsedTime: 17.2 seconds RetCode: 0 Status: OK PackageFile: timeOmics_1.23.0.tar.gz PackageFileSize: 4.012 MiB