Package: timeOmics Version: 1.23.0 Command: rm -rf timeOmics.buildbin-libdir && mkdir timeOmics.buildbin-libdir && /Users/biocbuild/BBS/utils/build-universal.sh timeOmics_1.23.0.tar.gz /Library/Frameworks/R.framework/Resources/bin/R timeOmics.buildbin-libdir StartedAt: 2025-11-13 23:59:56 -0500 (Thu, 13 Nov 2025) EndedAt: 2025-11-14 00:00:02 -0500 (Fri, 14 Nov 2025) EllapsedTime: 6.2 seconds RetCode: 0 Status: OK PackageFile: timeOmics_1.23.0.tgz PackageFileSize: 3.494 MiB