Package: timeOmics Version: 1.23.0 Maintainer: Antoine Bodein MaintainerEmail: antoine.bodein.1 at ulaval.ca git_url: https://git.bioconductor.org/packages/timeOmics git_branch: devel git_last_commit: 5346f41 git_last_commit_date: 2025-10-29 10:58:20 -0500 (Wed, 29 Oct 2025)