Package: tilingArray Version: 1.89.0 Command: /home/biocbuild/bbs-3.23-bioc/R/bin/R CMD INSTALL tilingArray StartedAt: 2025-11-11 16:00:45 -0500 (Tue, 11 Nov 2025) EndedAt: 2025-11-11 16:01:09 -0500 (Tue, 11 Nov 2025) EllapsedTime: 23.7 seconds RetCode: 0 Status: OK