Package: tilingArray Version: 1.89.0 Command: /home/biocbuild/bbs-3.23-bioc/R/bin/R CMD check --install=check:tilingArray.install-out.txt --library=/home/biocbuild/bbs-3.23-bioc/R/site-library --timings tilingArray_1.89.0.tar.gz StartedAt: 2025-11-14 04:48:33 -0500 (Fri, 14 Nov 2025) EndedAt: 2025-11-14 04:51:28 -0500 (Fri, 14 Nov 2025) EllapsedTime: 175.2 seconds RetCode: 0 Status: OK CheckDir: tilingArray.Rcheck Warnings: 0