Package: tilingArray Version: 1.89.0 Command: /Library/Frameworks/R.framework/Resources/bin/R CMD INSTALL tilingArray StartedAt: 2025-11-12 15:44:31 -0500 (Wed, 12 Nov 2025) EndedAt: 2025-11-12 15:44:41 -0500 (Wed, 12 Nov 2025) EllapsedTime: 9.5 seconds RetCode: 0 Status: OK