Package: tilingArray Version: 1.89.0 Command: /Library/Frameworks/R.framework/Resources/bin/R CMD check --install=check:tilingArray.install-out.txt --library=/Library/Frameworks/R.framework/Resources/library --no-vignettes --timings tilingArray_1.89.0.tar.gz StartedAt: 2025-11-12 20:36:46 -0500 (Wed, 12 Nov 2025) EndedAt: 2025-11-12 20:37:58 -0500 (Wed, 12 Nov 2025) EllapsedTime: 71.8 seconds RetCode: 0 Status: OK CheckDir: tilingArray.Rcheck Warnings: 0