Package: tilingArray Version: 1.89.0 Command: /Library/Frameworks/R.framework/Resources/bin/R CMD build --keep-empty-dirs --no-resave-data tilingArray StartedAt: 2025-11-12 17:23:22 -0500 (Wed, 12 Nov 2025) EndedAt: 2025-11-12 17:23:42 -0500 (Wed, 12 Nov 2025) EllapsedTime: 20.3 seconds RetCode: 0 Status: OK PackageFile: tilingArray_1.89.0.tar.gz PackageFileSize: 3.487 MiB