Package: tidytof Version: 1.5.0 Command: /home/biocbuild/bbs-3.23-bioc/R/bin/R CMD check --install=check:tidytof.install-out.txt --library=/home/biocbuild/bbs-3.23-bioc/R/site-library --timings tidytof_1.5.0.tar.gz StartedAt: 2025-11-14 04:47:19 -0500 (Fri, 14 Nov 2025) EndedAt: 2025-11-14 04:59:40 -0500 (Fri, 14 Nov 2025) EllapsedTime: 740.9 seconds RetCode: 1 Status: ERROR CheckDir: tidytof.Rcheck Warnings: NA