Package: tidytof Version: 1.5.0 Command: /home/biocbuild/bbs-3.23-bioc/R/bin/R CMD build --keep-empty-dirs --no-resave-data tidytof StartedAt: 2025-11-13 20:31:05 -0500 (Thu, 13 Nov 2025) EndedAt: 2025-11-13 20:35:27 -0500 (Thu, 13 Nov 2025) EllapsedTime: 262.3 seconds RetCode: 0 Status: OK PackageFile: tidytof_1.5.0.tar.gz PackageFileSize: 2.467 MiB