Package: tidytof Version: 1.5.0 Command: /Library/Frameworks/R.framework/Resources/bin/R CMD build --keep-empty-dirs --no-resave-data tidytof StartedAt: 2025-11-13 17:58:50 -0500 (Thu, 13 Nov 2025) EndedAt: 2025-11-13 18:00:49 -0500 (Thu, 13 Nov 2025) EllapsedTime: 118.4 seconds RetCode: 0 Status: OK PackageFile: tidytof_1.5.0.tar.gz PackageFileSize: 2.687 MiB