############################################################################## ############################################################################## ### ### Running command: ### ### /Library/Frameworks/R.framework/Resources/bin/R CMD build --keep-empty-dirs --no-resave-data tidytof ### ############################################################################## ############################################################################## * checking for file ‘tidytof/DESCRIPTION’ ... OK * preparing ‘tidytof’: * checking DESCRIPTION meta-information ... OK * cleaning src * installing the package (it is needed to build vignettes) ----------------------------------- ERROR: dependency ‘flowCore’ is not available for package ‘tidytof’ Perhaps try a variation of: install.packages('flowCore') * removing ‘/private/var/folders/r0/l4fjk6cj5xj0j3brt4bplpl40000gt/T/RtmpzaMF4V/Rinst13024291e1aa/tidytof’ ----------------------------------- ERROR: package installation failed