Package: tidysbml Version: 1.5.0 Command: /home/biocbuild/bbs-3.23-bioc/R/bin/R CMD build --keep-empty-dirs --no-resave-data tidysbml StartedAt: 2025-11-13 20:30:46 -0500 (Thu, 13 Nov 2025) EndedAt: 2025-11-13 20:31:01 -0500 (Thu, 13 Nov 2025) EllapsedTime: 15.0 seconds RetCode: 0 Status: OK PackageFile: tidysbml_1.5.0.tar.gz PackageFileSize: 306.2 KiB