Package: tidysbml Version: 1.5.0 Command: /Library/Frameworks/R.framework/Resources/bin/R CMD INSTALL tidysbml StartedAt: 2025-11-13 15:02:49 -0500 (Thu, 13 Nov 2025) EndedAt: 2025-11-13 15:02:58 -0500 (Thu, 13 Nov 2025) EllapsedTime: 9.3 seconds RetCode: 0 Status: OK