Package: tidysbml Version: 1.5.0 Command: rm -rf tidysbml.buildbin-libdir && mkdir tidysbml.buildbin-libdir && /Users/biocbuild/BBS/utils/build-universal.sh tidysbml_1.5.0.tar.gz /Library/Frameworks/R.framework/Resources/bin/R tidysbml.buildbin-libdir StartedAt: 2025-11-14 23:55:00 -0500 (Fri, 14 Nov 2025) EndedAt: 2025-11-14 23:55:02 -0500 (Fri, 14 Nov 2025) EllapsedTime: 2.0 seconds RetCode: 0 Status: OK PackageFile: tidysbml_1.5.0.tgz PackageFileSize: 336 KiB