Package: tidysbml Version: 1.5.0 Maintainer: Veronica Paparozzi MaintainerEmail: veronicapaparozzi1 at gmail.com git_url: https://git.bioconductor.org/packages/tidysbml git_branch: devel git_last_commit: 64e3285 git_last_commit_date: 2025-10-29 11:31:48 -0500 (Wed, 29 Oct 2025)