Package: tidyomics Version: 1.7.0 Command: /home/biocbuild/bbs-3.23-bioc/R/bin/R CMD INSTALL tidyomics StartedAt: 2025-11-11 15:37:43 -0500 (Tue, 11 Nov 2025) EndedAt: 2025-11-11 15:38:16 -0500 (Tue, 11 Nov 2025) EllapsedTime: 33.2 seconds RetCode: 0 Status: OK