Package: tidyomics Version: 1.7.0 Command: /home/biocbuild/bbs-3.23-bioc/R/bin/R CMD build --keep-empty-dirs --no-resave-data tidyomics StartedAt: 2025-11-11 20:35:35 -0500 (Tue, 11 Nov 2025) EndedAt: 2025-11-11 20:36:10 -0500 (Tue, 11 Nov 2025) EllapsedTime: 35.0 seconds RetCode: 0 Status: OK PackageFile: tidyomics_1.7.0.tar.gz PackageFileSize: 56.47 KiB