Package: tidyomics Version: 1.7.0 Command: /Library/Frameworks/R.framework/Resources/bin/R CMD INSTALL tidyomics StartedAt: 2025-11-13 15:19:51 -0500 (Thu, 13 Nov 2025) EndedAt: 2025-11-13 15:20:04 -0500 (Thu, 13 Nov 2025) EllapsedTime: 13.1 seconds RetCode: 0 Status: OK