Package: tidyomics Version: 1.7.0 Command: /Library/Frameworks/R.framework/Resources/bin/R CMD build --keep-empty-dirs --no-resave-data tidyomics StartedAt: 2025-11-13 17:58:35 -0500 (Thu, 13 Nov 2025) EndedAt: 2025-11-13 17:58:52 -0500 (Thu, 13 Nov 2025) EllapsedTime: 17.2 seconds RetCode: 0 Status: OK PackageFile: tidyomics_1.7.0.tar.gz PackageFileSize: 56.37 KiB