Package: tidyomics Version: 1.7.0 Command: rm -rf tidyomics.buildbin-libdir && mkdir tidyomics.buildbin-libdir && /Users/biocbuild/BBS/utils/build-universal.sh tidyomics_1.7.0.tar.gz /Library/Frameworks/R.framework/Resources/bin/R tidyomics.buildbin-libdir StartedAt: 2025-11-13 23:59:42 -0500 (Thu, 13 Nov 2025) EndedAt: 2025-11-13 23:59:59 -0500 (Thu, 13 Nov 2025) EllapsedTime: 17.4 seconds RetCode: 0 Status: OK PackageFile: tidyomics_1.7.0.tgz PackageFileSize: 74.79 KiB