Package: tidybulk Version: 2.1.0 Command: /home/biocbuild/bbs-3.23-bioc/R/bin/R CMD INSTALL tidybulk StartedAt: 2025-11-13 15:24:33 -0500 (Thu, 13 Nov 2025) EndedAt: 2025-11-13 15:25:05 -0500 (Thu, 13 Nov 2025) EllapsedTime: 32.8 seconds RetCode: 0 Status: OK