Package: tidybulk Version: 2.1.0 Command: /home/biocbuild/bbs-3.23-bioc/R/bin/R CMD check --install=check:tidybulk.install-out.txt --library=/home/biocbuild/bbs-3.23-bioc/R/site-library --timings tidybulk_2.1.0.tar.gz StartedAt: 2025-11-15 04:52:48 -0500 (Sat, 15 Nov 2025) EndedAt: 2025-11-15 05:26:35 -0500 (Sat, 15 Nov 2025) EllapsedTime: 2027.6 seconds RetCode: 0 Status: OK CheckDir: tidybulk.Rcheck Warnings: 0