Package: tidybulk Version: 2.1.0 Command: /home/biocbuild/bbs-3.23-bioc/R/bin/R CMD build --keep-empty-dirs --no-resave-data tidybulk StartedAt: 2025-11-14 20:29:54 -0500 (Fri, 14 Nov 2025) EndedAt: 2025-11-14 20:47:28 -0500 (Fri, 14 Nov 2025) EllapsedTime: 1054.0 seconds RetCode: 0 Status: OK PackageFile: tidybulk_2.1.0.tar.gz PackageFileSize: 4.739 MiB