Package: tidybulk Version: 2.1.0 Command: /Library/Frameworks/R.framework/Resources/bin/R CMD INSTALL tidybulk StartedAt: 2025-11-13 15:15:29 -0500 (Thu, 13 Nov 2025) EndedAt: 2025-11-13 15:15:41 -0500 (Thu, 13 Nov 2025) EllapsedTime: 12.6 seconds RetCode: 0 Status: OK