Package: tidybulk Version: 2.1.0 Command: /Library/Frameworks/R.framework/Resources/bin/R CMD check --install=check:tidybulk.install-out.txt --library=/Library/Frameworks/R.framework/Resources/library --no-vignettes --timings tidybulk_2.1.0.tar.gz StartedAt: 2025-11-14 22:56:35 -0500 (Fri, 14 Nov 2025) EndedAt: 2025-11-14 23:03:46 -0500 (Fri, 14 Nov 2025) EllapsedTime: 430.4 seconds RetCode: 0 Status: OK CheckDir: tidybulk.Rcheck Warnings: 0