Package: tidybulk Version: 2.1.0 Command: rm -rf tidybulk.buildbin-libdir && mkdir tidybulk.buildbin-libdir && /Users/biocbuild/BBS/utils/build-universal.sh tidybulk_2.1.0.tar.gz /Library/Frameworks/R.framework/Resources/bin/R tidybulk.buildbin-libdir StartedAt: 2025-11-14 23:54:55 -0500 (Fri, 14 Nov 2025) EndedAt: 2025-11-14 23:55:13 -0500 (Fri, 14 Nov 2025) EllapsedTime: 17.3 seconds RetCode: 0 Status: OK PackageFile: tidybulk_2.1.0.tgz PackageFileSize: 5.372 MiB