Package: tidySummarizedExperiment Version: 1.21.0 Command: /home/biocbuild/bbs-3.23-bioc/R/bin/R CMD check --install=check:tidySummarizedExperiment.install-out.txt --library=/home/biocbuild/bbs-3.23-bioc/R/site-library --timings tidySummarizedExperiment_1.21.0.tar.gz StartedAt: 2025-11-14 04:46:55 -0500 (Fri, 14 Nov 2025) EndedAt: 2025-11-14 04:52:17 -0500 (Fri, 14 Nov 2025) EllapsedTime: 321.3 seconds RetCode: 0 Status: OK CheckDir: tidySummarizedExperiment.Rcheck Warnings: 0