Package: tidySummarizedExperiment Version: 1.21.0 Command: /home/biocbuild/bbs-3.23-bioc/R/bin/R CMD build --keep-empty-dirs --no-resave-data tidySummarizedExperiment StartedAt: 2025-11-13 20:31:01 -0500 (Thu, 13 Nov 2025) EndedAt: 2025-11-13 20:31:41 -0500 (Thu, 13 Nov 2025) EllapsedTime: 40.0 seconds RetCode: 0 Status: OK PackageFile: tidySummarizedExperiment_1.21.0.tar.gz PackageFileSize: 390.5 KiB