Package: tidySummarizedExperiment Version: 1.21.0 Command: rm -rf tidySummarizedExperiment.buildbin-libdir && mkdir tidySummarizedExperiment.buildbin-libdir && /Users/biocbuild/BBS/utils/build-universal.sh tidySummarizedExperiment_1.21.0.tar.gz /Library/Frameworks/R.framework/Resources/bin/R tidySummarizedExperiment.buildbin-libdir StartedAt: 2025-11-12 21:12:44 -0500 (Wed, 12 Nov 2025) EndedAt: 2025-11-12 21:12:58 -0500 (Wed, 12 Nov 2025) EllapsedTime: 14.4 seconds RetCode: 0 Status: OK PackageFile: tidySummarizedExperiment_1.21.0.tgz PackageFileSize: 577.1 KiB