Package: tidySpatialExperiment Version: 1.7.1 Command: /home/biocbuild/bbs-3.23-bioc/R/bin/R CMD INSTALL tidySpatialExperiment StartedAt: 2025-11-13 15:22:40 -0500 (Thu, 13 Nov 2025) EndedAt: 2025-11-13 15:23:09 -0500 (Thu, 13 Nov 2025) EllapsedTime: 28.4 seconds RetCode: 0 Status: OK