Package: tidySpatialExperiment Version: 1.7.1 Command: /home/biocbuild/bbs-3.23-bioc/R/bin/R CMD build --keep-empty-dirs --no-resave-data tidySpatialExperiment StartedAt: 2025-11-13 20:30:50 -0500 (Thu, 13 Nov 2025) EndedAt: 2025-11-13 20:31:40 -0500 (Thu, 13 Nov 2025) EllapsedTime: 50.0 seconds RetCode: 0 Status: OK PackageFile: tidySpatialExperiment_1.7.1.tar.gz PackageFileSize: 4.335 MiB