Package: tidySpatialExperiment Version: 1.7.1 Command: /Library/Frameworks/R.framework/Resources/bin/R CMD check --install=check:tidySpatialExperiment.install-out.txt --library=/Library/Frameworks/R.framework/Resources/library --no-vignettes --timings tidySpatialExperiment_1.7.1.tar.gz StartedAt: 2025-11-13 23:02:13 -0500 (Thu, 13 Nov 2025) EndedAt: 2025-11-13 23:04:04 -0500 (Thu, 13 Nov 2025) EllapsedTime: 111.3 seconds RetCode: 0 Status: OK CheckDir: tidySpatialExperiment.Rcheck Warnings: 0