Package: tidySpatialExperiment Version: 1.7.1 Command: /Library/Frameworks/R.framework/Resources/bin/R CMD build --keep-empty-dirs --no-resave-data tidySpatialExperiment StartedAt: 2025-11-13 17:58:43 -0500 (Thu, 13 Nov 2025) EndedAt: 2025-11-13 17:59:07 -0500 (Thu, 13 Nov 2025) EllapsedTime: 24.3 seconds RetCode: 0 Status: OK PackageFile: tidySpatialExperiment_1.7.1.tar.gz PackageFileSize: 4.301 MiB