Package: tidySingleCellExperiment Version: 1.21.0 Command: /home/biocbuild/bbs-3.23-bioc/R/bin/R CMD build --keep-empty-dirs --no-resave-data tidySingleCellExperiment StartedAt: 2025-11-13 20:30:46 -0500 (Thu, 13 Nov 2025) EndedAt: 2025-11-13 20:32:10 -0500 (Thu, 13 Nov 2025) EllapsedTime: 84.1 seconds RetCode: 0 Status: OK PackageFile: tidySingleCellExperiment_1.21.0.tar.gz PackageFileSize: 1.128 MiB