Package: tidySingleCellExperiment Version: 1.21.0 Command: /Library/Frameworks/R.framework/Resources/bin/R CMD INSTALL tidySingleCellExperiment StartedAt: 2025-11-12 15:25:26 -0500 (Wed, 12 Nov 2025) EndedAt: 2025-11-12 15:25:37 -0500 (Wed, 12 Nov 2025) EllapsedTime: 11.4 seconds RetCode: 0 Status: OK