Package: tidySingleCellExperiment Version: 1.21.0 Command: /Library/Frameworks/R.framework/Resources/bin/R CMD build --keep-empty-dirs --no-resave-data tidySingleCellExperiment StartedAt: 2025-11-12 17:23:14 -0500 (Wed, 12 Nov 2025) EndedAt: 2025-11-12 17:23:28 -0500 (Wed, 12 Nov 2025) EllapsedTime: 14.2 seconds RetCode: 1 Status: ERROR PackageFile: None PackageFileSize: NA