Package: tidyFlowCore Version: 1.5.0 Command: /home/biocbuild/bbs-3.23-bioc/R/bin/R CMD INSTALL tidyFlowCore StartedAt: 2025-11-13 15:13:48 -0500 (Thu, 13 Nov 2025) EndedAt: 2025-11-13 15:14:00 -0500 (Thu, 13 Nov 2025) EllapsedTime: 11.3 seconds RetCode: 0 Status: OK