Package: tidyFlowCore Version: 1.5.0 Command: /home/biocbuild/bbs-3.23-bioc/R/bin/R CMD check --install=check:tidyFlowCore.install-out.txt --library=/home/biocbuild/bbs-3.23-bioc/R/site-library --timings tidyFlowCore_1.5.0.tar.gz StartedAt: 2025-11-15 04:53:46 -0500 (Sat, 15 Nov 2025) EndedAt: 2025-11-15 04:56:03 -0500 (Sat, 15 Nov 2025) EllapsedTime: 137.1 seconds RetCode: 0 Status: OK CheckDir: tidyFlowCore.Rcheck Warnings: 0