Package: tidyFlowCore Version: 1.5.0 Command: /Library/Frameworks/R.framework/Resources/bin/R CMD check --install=check:tidyFlowCore.install-out.txt --library=/Library/Frameworks/R.framework/Resources/library --no-vignettes --timings tidyFlowCore_1.5.0.tar.gz StartedAt: 2025-11-14 22:56:59 -0500 (Fri, 14 Nov 2025) EndedAt: 2025-11-14 22:57:42 -0500 (Fri, 14 Nov 2025) EllapsedTime: 43.5 seconds RetCode: 0 Status: OK CheckDir: tidyFlowCore.Rcheck Warnings: 0