Package: tidyFlowCore Version: 1.5.0 Command: rm -rf tidyFlowCore.buildbin-libdir && mkdir tidyFlowCore.buildbin-libdir && /Users/biocbuild/BBS/utils/build-universal.sh tidyFlowCore_1.5.0.tar.gz /Library/Frameworks/R.framework/Resources/bin/R tidyFlowCore.buildbin-libdir StartedAt: 2025-11-14 23:54:56 -0500 (Fri, 14 Nov 2025) EndedAt: 2025-11-14 23:55:03 -0500 (Fri, 14 Nov 2025) EllapsedTime: 6.1 seconds RetCode: 0 Status: OK PackageFile: tidyFlowCore_1.5.0.tgz PackageFileSize: 924.7 KiB