Package: tidyCoverage Version: 1.7.0 Command: /Library/Frameworks/R.framework/Resources/bin/R CMD INSTALL tidyCoverage StartedAt: 2025-11-13 15:16:16 -0500 (Thu, 13 Nov 2025) EndedAt: 2025-11-13 15:16:30 -0500 (Thu, 13 Nov 2025) EllapsedTime: 13.9 seconds RetCode: 0 Status: OK