Package: tidyCoverage Version: 1.7.0 Command: /Library/Frameworks/R.framework/Resources/bin/R CMD check --install=check:tidyCoverage.install-out.txt --library=/Library/Frameworks/R.framework/Resources/library --no-vignettes --timings tidyCoverage_1.7.0.tar.gz StartedAt: 2025-11-12 20:36:10 -0500 (Wed, 12 Nov 2025) EndedAt: 2025-11-12 20:38:39 -0500 (Wed, 12 Nov 2025) EllapsedTime: 148.8 seconds RetCode: 0 Status: OK CheckDir: tidyCoverage.Rcheck Warnings: 0