Package: tidyCoverage Version: 1.7.0 Command: /Library/Frameworks/R.framework/Resources/bin/R CMD build --keep-empty-dirs --no-resave-data tidyCoverage StartedAt: 2025-11-13 17:58:22 -0500 (Thu, 13 Nov 2025) EndedAt: 2025-11-13 17:59:51 -0500 (Thu, 13 Nov 2025) EllapsedTime: 89.0 seconds RetCode: 0 Status: OK PackageFile: tidyCoverage_1.7.0.tar.gz PackageFileSize: 3.899 MiB