Package: tidyCoverage Version: 1.7.0 Command: rm -rf tidyCoverage.buildbin-libdir && mkdir tidyCoverage.buildbin-libdir && /Users/biocbuild/BBS/utils/build-universal.sh tidyCoverage_1.7.0.tar.gz /Library/Frameworks/R.framework/Resources/bin/R tidyCoverage.buildbin-libdir StartedAt: 2025-11-12 21:12:41 -0500 (Wed, 12 Nov 2025) EndedAt: 2025-11-12 21:12:58 -0500 (Wed, 12 Nov 2025) EllapsedTime: 17.4 seconds RetCode: 0 Status: OK PackageFile: tidyCoverage_1.7.0.tgz PackageFileSize: 4.218 MiB