Package: terraTCGAdata Version: 1.15.1 Command: /home/biocbuild/bbs-3.23-bioc/R/bin/R CMD INSTALL terraTCGAdata StartedAt: 2025-11-14 15:44:48 -0500 (Fri, 14 Nov 2025) EndedAt: 2025-11-14 15:45:13 -0500 (Fri, 14 Nov 2025) EllapsedTime: 24.7 seconds RetCode: 0 Status: OK