Package: terraTCGAdata Version: 1.15.1 Command: /home/biocbuild/bbs-3.23-bioc/R/bin/R CMD build --keep-empty-dirs --no-resave-data terraTCGAdata StartedAt: 2025-11-14 20:29:12 -0500 (Fri, 14 Nov 2025) EndedAt: 2025-11-14 20:29:44 -0500 (Fri, 14 Nov 2025) EllapsedTime: 32.0 seconds RetCode: 1 Status: ERROR PackageFile: None PackageFileSize: NA